BEGIN:VCALENDAR
VERSION:2.0
PRODID:-//Nerdpol Café - ECPv6.15.20//NONSGML v1.0//EN
CALSCALE:GREGORIAN
METHOD:PUBLISH
X-WR-CALNAME:Nerdpol Café
X-ORIGINAL-URL:https://nerdpol.cafe
X-WR-CALDESC:Veranstaltungen für Nerdpol Café
REFRESH-INTERVAL;VALUE=DURATION:PT1H
X-Robots-Tag:noindex
X-PUBLISHED-TTL:PT1H
BEGIN:VTIMEZONE
TZID:Europe/Berlin
BEGIN:DAYLIGHT
TZOFFSETFROM:+0100
TZOFFSETTO:+0200
TZNAME:CEST
DTSTART:20250330T010000
END:DAYLIGHT
BEGIN:STANDARD
TZOFFSETFROM:+0200
TZOFFSETTO:+0100
TZNAME:CET
DTSTART:20251026T010000
END:STANDARD
BEGIN:DAYLIGHT
TZOFFSETFROM:+0100
TZOFFSETTO:+0200
TZNAME:CEST
DTSTART:20260329T010000
END:DAYLIGHT
BEGIN:STANDARD
TZOFFSETFROM:+0200
TZOFFSETTO:+0100
TZNAME:CET
DTSTART:20261025T010000
END:STANDARD
BEGIN:DAYLIGHT
TZOFFSETFROM:+0100
TZOFFSETTO:+0200
TZNAME:CEST
DTSTART:20270328T010000
END:DAYLIGHT
BEGIN:STANDARD
TZOFFSETFROM:+0200
TZOFFSETTO:+0100
TZNAME:CET
DTSTART:20271031T010000
END:STANDARD
END:VTIMEZONE
BEGIN:VEVENT
DTSTART;TZID=Europe/Berlin:20260421T190000
DTEND;TZID=Europe/Berlin:20260421T190000
DTSTAMP:20260421T103357
CREATED:20260420T113322Z
LAST-MODIFIED:20260420T114353Z
UID:3679-1776798000-1776798000@nerdpol.cafe
SUMMARY:Tournament Tuesday - Mario Kart Teams
DESCRIPTION:Kommt am 3. Dienstag im Monat vorbei\, wenn die #MarioKart Teams wieder an den Start gehen! Anmeldung ist jederzeit bis zum Start möglich.
URL:https://nerdpol.cafe/event/tournament-tuesday-kw17/
CATEGORIES:Community,Tournament Tuesday
END:VEVENT
BEGIN:VEVENT
DTSTART;TZID=Europe/Berlin:20260422T190000
DTEND;TZID=Europe/Berlin:20260422T190000
DTSTAMP:20260421T103357
CREATED:20260420T113518Z
LAST-MODIFIED:20260420T114618Z
UID:3681-1776884400-1776884400@nerdpol.cafe
SUMMARY:Wyld Wednesday - 10 % Rabatt*
DESCRIPTION:Es ist Mittwoch\, meine Kerle! Wir haben köstliche Getränke\, leckere Snacks und Partyspiele für euch vorbereitet. Menschen in Ausbildung erhalten heute 10 % Rabatt.\nUnd wenn ihr Songwünsche habt: ruft sie einfach rein! (Oder schreibt sie uns auf unserem Discord) \n#nerdpolcafe #gaming #cafe #eventcafe #bar #dresdenneustadt #dresden #visitdresden #kaffee #cocktails #bier #burger #wyldwednesday #mittwochmeinekerle #wednesdaymydudes #memes #rabatte #singstar #ultrastar #guitarhero #studiparty #sogehtsächsisch
URL:https://nerdpol.cafe/event/wyld-wednesday-kw17/
CATEGORIES:Community,Party,Wyld Wednesday
END:VEVENT
BEGIN:VEVENT
DTSTART;TZID=Europe/Berlin:20260426T130000
DTEND;TZID=Europe/Berlin:20260426T180000
DTSTAMP:20260421T103357
CREATED:20260420T113903Z
LAST-MODIFIED:20260420T113903Z
UID:3683-1777208400-1777226400@nerdpol.cafe
SUMMARY:Meet & Draw Dresden
DESCRIPTION:✨✏️Meet & Draw✏️✨ \nAm Sonntag 15.03.\, ist es wieder so weit!! \n13:00-18:00 im Nerdpol Café\nBautzner Straße 53 in Dresden \nUngezwungene lockere Treffen\, frei organisiert von jedem für jeden!\nWer? Anfänger\, Fortgeschrittene und Interessierte\nWas? Comic\, Manga\, Cartoon und/oder dein eigener Stil\nWie? Bleistift\, Pinsel\, Tablet etc.\nKreativ und kollektiv oder nur zum Quatschen.\nEinfach mal reinschauen! \nFür die nächsten Treffen:\n– 26.04.\n– 17.05.\n– 14.06.\n– 05.07.
URL:https://nerdpol.cafe/event/meet-draw-dresden-kw17/
CATEGORIES:Community
END:VEVENT
END:VCALENDAR